BEGIN:VCALENDAR
VERSION:2.0
PRODID:-//ChamberMaster//Event Calendar 2.0//EN
METHOD:PUBLISH
X-PUBLISHED-TTL:P3D
REFRESH-INTERVAL:P3D
CALSCALE:GREGORIAN
BEGIN:VEVENT
DTSTART:20260502T150000Z
DTEND:20260502T180000Z
X-MICROSOFT-CDO-ALLDAYEVENT:FALSE
SUMMARY:Cook Children's Safety Fair
DESCRIPTION:Pediatric Injury Prevention: Chat with experts about safe baby sleep\, vehicle safety\, gun safety\, drowning prevention\, poison prevention\, and other safety topics. Educational and injury prevention resources will be available to attendees. Activities and Giveaways: Great vibes from an interactive DJ and other activities for the family! Get up close and explore vehicles from the Carrollton Police & Fire Department Buckle Up Event: Child Passenger Safety Technicians will be available to check your car seat installations and answer any questions about next stages. Cost: This event is free for all families!
X-ALT-DESC;FMTTYPE=text/html:Pediatric Injury Prevention: Chat with experts about safe baby sleep\, vehicle safety\, gun safety\, drowning prevention\, poison prevention\, and other safety topics. Educational and injury prevention resources will be available to attendees. Activities and Giveaways: Great vibes from an interactive DJ and other activities for the family! Get up close and explore vehicles from the Carrollton Police &amp\; Fire Department Buckle Up Event: Child Passenger Safety Technicians will be available to check your car seat installations and answer any questions about next stages. Cost: This event is free for all families!
LOCATION:4443 N Josey Lane Carrollto\, TX 75010
UID:e.702.7325
SEQUENCE:3
DTSTAMP:20260424T202013Z
URL:https://business.metrocrestchamber.com/events/details/cook-children-s-safety-fair-7325
END:VEVENT

END:VCALENDAR
