BEGIN:VCALENDAR
VERSION:2.0
PRODID:-//ChamberMaster//Event Calendar 2.0//EN
METHOD:PUBLISH
X-PUBLISHED-TTL:P3D
REFRESH-INTERVAL:P3D
CALSCALE:GREGORIAN
BEGIN:VEVENT
DTSTART:20200909T170000Z
DTEND:20200909T180000Z
X-MICROSOFT-CDO-ALLDAYEVENT:FALSE
SUMMARY:State of the State
DESCRIPTION:REGISTRATION IS NOW CLOSED. Join us on Facebook Live at Noon. \n\n\n\nJoin us for a conversation with Representative Rafael Anchia\, District 103\, for a State of the State update. The webinar will include a brief overview of state/legislative happenings with a sneak peek into the next sessions topics. This program is sponsored by Thomson Reuters and Children's Health.\n\n\n\n\n\nRep. Anchia is serving his eighth tern in the Texas Legislature and represents the western corridor of Dallas County\, which includes the cities of Dallas\, Farmers Branch\, and Irving. Rep. Anchia currently serves as the Chairman of the House Committee on International Relations and Economic Development. This virtual event is free to attend\, and will be help on Zoom Webinar and simulcast to Facebook live.\n\n\n\nState of the State Program.
X-ALT-DESC;FMTTYPE=text/html:<span style="color:#323E4F\;"><span style="font-family:verdana\,sans-serif\;">REGISTRATION IS NOW CLOSED. Join us on Facebook Live at Noon.&nbsp\;<br />\n<br />\nJoin us for a conversation with Representative Rafael Anchia\, District 103\, for a State of the State update. The webinar will include a brief overview of state/legislative happenings with a sneak peek into the next sessions topics. This program is sponsored by Thomson Reuters and Children&rsquo\;s Health.</span></span><br />\n<br />\n<br />\n<span style="color:#323E4F\;"><span style="font-family:verdana\,sans-serif\;">Rep. Anchia is serving his eighth tern in the Texas Legislature and represents the western corridor of Dallas County\, which includes the cities of Dallas\, Farmers Branch\, and Irving. Rep. Anchia currently serves as the Chairman of the House Committee on International Relations and Economic Development. This virtual event is free to attend\, and will be help on Zoom Webinar and simulcast to Facebook live.<br />\n<br />\n<a href="https://chambermaster.blob.core.windows.net/userfiles/UserFiles/chambers/702/File/StateoftheStateProgram09.09.20201.pdf">State of the State Program.</a></span></span>
LOCATION:Registration is now closed. Join us on Facebook Live at Noon. Zoom Webinar Attendees will be sent a link to join the webinar the week of the event.
UID:e.702.4834
SEQUENCE:3
DTSTAMP:20260424T101406Z
URL:http://business.metrocrestchamber.com/events/details/state-of-the-state-4834
END:VEVENT

END:VCALENDAR
