BEGIN:VCALENDAR
VERSION:2.0
PRODID:-//ChamberMaster//Event Calendar 2.0//EN
METHOD:PUBLISH
X-PUBLISHED-TTL:P3D
REFRESH-INTERVAL:P3D
CALSCALE:GREGORIAN
BEGIN:VEVENT
DTSTART:20260601T140000Z
DTEND:20260601T170000Z
X-MICROSOFT-CDO-ALLDAYEVENT:FALSE
SUMMARY:Life Changer Golf Classic
DESCRIPTION:Shotgun Scramble with Air Canon\, Pregame Putting Contest\, Hole in One Contest\, Raffles\, Silent Auction\, Breakfast\, Lunch and reception/Awards\n\n\n\nRegister to Play\, Volunteer\, & Sponsor: SingleParentAdvocate.org/Events
X-ALT-DESC;FMTTYPE=text/html:Shotgun Scramble with Air Canon\, Pregame Putting Contest\, Hole in One Contest\, Raffles\, Silent Auction\, Breakfast\, Lunch and reception/Awards<br />\n<br />\nRegister to Play\, Volunteer\, &amp\; Sponsor: SingleParentAdvocate.org/Events
LOCATION:Brookhaven Country Club 3333 Golfing Green Dr. Farmers Branch\, TX 75244
UID:e.702.7322
SEQUENCE:3
DTSTAMP:20260422T171407Z
URL:http://business.metrocrestchamber.com/events/details/life-changer-golf-classic-7322
END:VEVENT

END:VCALENDAR
