BEGIN:VCALENDAR
VERSION:2.0
PRODID:-//ChamberMaster//Event Calendar 2.0//EN
METHOD:PUBLISH
X-PUBLISHED-TTL:P3D
REFRESH-INTERVAL:P3D
CALSCALE:GREGORIAN
BEGIN:VEVENT
DTSTART:20260506T160000Z
DTEND:20260506T170000Z
X-MICROSOFT-CDO-ALLDAYEVENT:FALSE
SUMMARY:HIPAA + Security Cameras Webinar
DESCRIPTION:Security cameras are important tools for protecting your people\, patients\, and practice\, but can create privacy concerns. Join this free mythbusting session with experts Nick Weil\, JD\, CIPT\, CHPC\, Founder of Weil Consulting and Nelson Elliott\, Founder of Settler Security to hear what HIPAA actually says and learn what additional security options you might have. \n\n\n\nhttps://us06web.zoom.us/webinar/register/WN_GTuZvLZRTRma62EWll4fpA
X-ALT-DESC;FMTTYPE=text/html:<p>Security cameras are important tools for protecting your people\, patients\, and practice\, but can create privacy concerns. Join this free mythbusting session with experts Nick Weil\, JD\, CIPT\, CHPC\, Founder of Weil Consulting and Nelson Elliott\, Founder of Settler Security to hear what HIPAA actually says and learn what additional security options you might have.&nbsp\;<br />\n<br />\nhttps://us06web.zoom.us/webinar/register/WN_GTuZvLZRTRma62EWll4fpA</p>\n
LOCATION:Online
UID:e.702.7309
SEQUENCE:3
DTSTAMP:20260420T190208Z
URL:http://business.metrocrestchamber.com/events/details/hipaa-security-cameras-webinar-7309
END:VEVENT

END:VCALENDAR
